BEGIN:VCALENDAR
VERSION:2.0
PRODID:-//北海道中小企業家同友会とかち支部 - ECPv4.6.8//NONSGML v1.0//EN
CALSCALE:GREGORIAN
METHOD:PUBLISH
X-WR-CALNAME:北海道中小企業家同友会とかち支部
X-ORIGINAL-URL:https://tokachi-obihiro.doyu.jp
X-WR-CALDESC:Events for 北海道中小企業家同友会とかち支部
BEGIN:VEVENT
DTSTART;TZID=Asia/Tokyo:20201026T190000
DTEND;TZID=Asia/Tokyo:20201026T210000
DTSTAMP:20260420T172449
CREATED:20200925T082627Z
LAST-MODIFIED:20200925T082627Z
UID:10935-1603738800-1603746000@tokachi-obihiro.doyu.jp
SUMMARY:第8回あすなる会運営委員会
DESCRIPTION:日　時：10月26日（月）19：00～21：00\n会　場：同友会事務所（帯広市東2条南5丁目1）またはZoom参加 \n【議 題】\n・11月グループ例会について\n・10月全体例会を振り返って\n・12月臨時総会・全体例会に向けて\n・その他 \n第8回あすなる会運営委員会
URL:https://tokachi-obihiro.doyu.jp/event/event10935/
LOCATION:北海道帯広市東2条南5丁目1-1\, Japan
CATEGORIES:行事予定告知
ATTACH;FMTTYPE=image/jpeg:https://tokachi-obihiro.doyu.jp/wp/wp-content/uploads/2017/12/thum_logo1.jpg
END:VEVENT
END:VCALENDAR