BEGIN:VCALENDAR
VERSION:2.0
PRODID:-//北海道中小企業家同友会とかち支部 - ECPv4.6.8//NONSGML v1.0//EN
CALSCALE:GREGORIAN
METHOD:PUBLISH
X-WR-CALNAME:北海道中小企業家同友会とかち支部
X-ORIGINAL-URL:https://tokachi-obihiro.doyu.jp
X-WR-CALDESC:Events for 北海道中小企業家同友会とかち支部
BEGIN:VEVENT
DTSTART;TZID=Asia/Tokyo:20201203T130000
DTEND;TZID=Asia/Tokyo:20201203T173000
DTSTAMP:20260424T165522
CREATED:20200924T063847Z
LAST-MODIFIED:20200924T063847Z
UID:10922-1607000400-1607016600@tokachi-obihiro.doyu.jp
SUMMARY:第49期中堅幹部学校 10講
DESCRIPTION:■ 日　　時：１２月３日(木)　１３：００～１７：３０\n■ 会　　場：同友会会議室（帯広市東２条南５丁目１）\n【第10講】\nテーマ：中堅幹部学校で学んで、今自分ができること\n講　師：楽しいオフィス　代表　沖田　泰範　氏\n■ 受講対象：幹部社員（候補）、後継者（候補）、経営者\n■ 受 講 料：３５\,０００円（卒業式懇親会参加費別途）\n■ 定　　員：２０名 （先着順） \nPDFはこちら \n第49期中堅幹部学校 10講
URL:https://tokachi-obihiro.doyu.jp/event/event10922/
CATEGORIES:行事予定告知
ATTACH;FMTTYPE=image/jpeg:https://tokachi-obihiro.doyu.jp/wp/wp-content/uploads/2017/12/thum_logo1.jpg
END:VEVENT
END:VCALENDAR