BEGIN:VCALENDAR
VERSION:2.0
PRODID:-//北海道中小企業家同友会とかち支部 - ECPv4.6.8//NONSGML v1.0//EN
CALSCALE:GREGORIAN
METHOD:PUBLISH
X-WR-CALNAME:北海道中小企業家同友会とかち支部
X-ORIGINAL-URL:https://tokachi-obihiro.doyu.jp
X-WR-CALDESC:Events for 北海道中小企業家同友会とかち支部
BEGIN:VEVENT
DTSTART;TZID=Asia/Tokyo:20201105T130000
DTEND;TZID=Asia/Tokyo:20201105T173000
DTSTAMP:20260422T160800
CREATED:20200924T055328Z
LAST-MODIFIED:20200924T060043Z
UID:10902-1604581200-1604597400@tokachi-obihiro.doyu.jp
SUMMARY:第49期中堅幹部学校 3講
DESCRIPTION:■ 日　　時：１１月５日(木)　１３：００～１７：３０\n■ 会　　場：有限会社大坂林業\n【第3講】\nテーマ：企業見学～同友会会員企業から学ぶ\n講　師：有限会社大坂林業　代表取締役　松村　幹了　氏\n■ 受講対象：幹部社員（候補）、後継者（候補）、経営者\n■ 受 講 料：３５\,０００円（卒業式懇親会参加費別途）\n■ 定　　員：２０名 （先着順） \nPDFはこちら \n第49期中堅幹部学校 3講
URL:https://tokachi-obihiro.doyu.jp/event/event10902/
LOCATION:幕別町忠類錦町438番地\, 北海道\, Japan
CATEGORIES:行事予定告知
ATTACH;FMTTYPE=image/jpeg:https://tokachi-obihiro.doyu.jp/wp/wp-content/uploads/2017/12/thum_logo1.jpg
END:VEVENT
END:VCALENDAR