BEGIN:VCALENDAR
VERSION:2.0
PRODID:-//北海道中小企業家同友会とかち支部 - ECPv4.6.8//NONSGML v1.0//EN
CALSCALE:GREGORIAN
METHOD:PUBLISH
X-WR-CALNAME:北海道中小企業家同友会とかち支部
X-ORIGINAL-URL:https://tokachi-obihiro.doyu.jp
X-WR-CALDESC:Events for 北海道中小企業家同友会とかち支部
BEGIN:VEVENT
DTSTART;TZID=Asia/Tokyo:20201012T180000
DTEND;TZID=Asia/Tokyo:20201012T203000
DTSTAMP:20260422T131519
CREATED:20200917T024126Z
LAST-MODIFIED:20200917T024126Z
UID:10840-1602525600-1602534600@tokachi-obihiro.doyu.jp
SUMMARY:第8回とかち支部幹事会
DESCRIPTION:■日時：10月12日（月）幹事会18：00～20：00　学習会20：00～20：30\n■会場：同友会事務所またはZoom参加　※事務所は定員15名\n■議題：冬季の企画、会員増強、他 \n第8回とかち支部幹事会
URL:https://tokachi-obihiro.doyu.jp/event/event10840/
CATEGORIES:行事予定告知
ATTACH;FMTTYPE=image/jpeg:https://tokachi-obihiro.doyu.jp/wp/wp-content/uploads/2017/12/thum_logo1.jpg
END:VEVENT
END:VCALENDAR