BEGIN:VCALENDAR
VERSION:2.0
PRODID:-//北海道中小企業家同友会とかち支部 - ECPv4.6.8//NONSGML v1.0//EN
CALSCALE:GREGORIAN
METHOD:PUBLISH
X-WR-CALNAME:北海道中小企業家同友会とかち支部
X-ORIGINAL-URL:https://tokachi-obihiro.doyu.jp
X-WR-CALDESC:Events for 北海道中小企業家同友会とかち支部
BEGIN:VEVENT
DTSTART;TZID=Asia/Tokyo:20201016T140000
DTEND;TZID=Asia/Tokyo:20201016T160000
DTSTAMP:20260421T054346
CREATED:20200915T075417Z
LAST-MODIFIED:20200915T075417Z
UID:10817-1602856800-1602864000@tokachi-obihiro.doyu.jp
SUMMARY:環境部会１０月オープン例会
DESCRIPTION:日　時：１０月１６日（金）　１４：００～１６：００ \n会　場：同友会事務所（帯広市東2条南5丁目1）またはＺＯＯＭでの参加 \n参加費：１\,０００円（領収書は同友会から発行） \nテーマ：Secomaの中に、ecoがある ～セコマグループの環境への取組み～ \n報告者：㈱セコマ 執行役員 広報部 部長 佐々木 威知 氏 \nPDFはこちら \n  \n環境部会１０月オープン例会
URL:https://tokachi-obihiro.doyu.jp/event/event10817/
LOCATION:北海道帯広市東2条南5丁目1-1\, Japan
CATEGORIES:行事予定告知
ATTACH;FMTTYPE=image/jpeg:https://tokachi-obihiro.doyu.jp/wp/wp-content/uploads/2017/12/thum_logo1.jpg
END:VEVENT
END:VCALENDAR