BEGIN:VCALENDAR
VERSION:2.0
PRODID:-//北海道中小企業家同友会とかち支部 - ECPv4.6.8//NONSGML v1.0//EN
CALSCALE:GREGORIAN
METHOD:PUBLISH
X-WR-CALNAME:北海道中小企業家同友会とかち支部
X-ORIGINAL-URL:https://tokachi-obihiro.doyu.jp
X-WR-CALDESC:Events for 北海道中小企業家同友会とかち支部
BEGIN:VEVENT
DTSTART;TZID=Asia/Tokyo:20200924T190000
DTEND;TZID=Asia/Tokyo:20200924T203000
DTSTAMP:20260425T011035
CREATED:20200903T043624Z
LAST-MODIFIED:20200903T043856Z
UID:10728-1600974000-1600979400@tokachi-obihiro.doyu.jp
SUMMARY:青年経営者の会 第5回例会
DESCRIPTION:日　時：9月24日（木）19：00～20：30 \n会　場：ハピオ ２階コミュニティーＢ（音更町木野大通西7丁目） \nテーマ：地産地消に取り組み、地域に喜ばれる店づくりを目指して！ハピオの戦略とは \n報告者：(株)ハピオ　生活事業部長　鳥海　正行　氏 \n参加費：無料 \n※終了後、「海鮮 蔵」にて懇親会を行います。会費5\,000円。領収証はお店より発行します。 \n【注意事項】\n・とかち支部では現在30名以上が一か所に集まる会合を自粛しております。\n本例会が30名を超えた場合は、世話人が中心となり参加人数の調整を行う予定です。 \n・青年経営者の会「コロナ感染拡大防止策」を確認の上ご参加下さい。\n例会参加基準に該当する場合でも状況によっては参加可能ですので、事務局もしくは近藤代表までお気軽にご相談ください。 \n・懇親会の当日キャンセルは参加費を頂戴します。 \nPDFはこちら \n青年経営者の会 第5回例会
URL:https://tokachi-obihiro.doyu.jp/event/event10728/
LOCATION:音更町木野大通西7丁目\, 北海道\, Japan
CATEGORIES:行事予定告知
ATTACH;FMTTYPE=image/jpeg:https://tokachi-obihiro.doyu.jp/wp/wp-content/uploads/2017/12/thum_logo1.jpg
END:VEVENT
END:VCALENDAR