BEGIN:VCALENDAR
VERSION:2.0
PRODID:-//北海道中小企業家同友会とかち支部 - ECPv4.6.8//NONSGML v1.0//EN
CALSCALE:GREGORIAN
METHOD:PUBLISH
X-WR-CALNAME:北海道中小企業家同友会とかち支部
X-ORIGINAL-URL:https://tokachi-obihiro.doyu.jp
X-WR-CALDESC:Events for 北海道中小企業家同友会とかち支部
BEGIN:VEVENT
DTSTART;TZID=Asia/Tokyo:20200928T183000
DTEND;TZID=Asia/Tokyo:20200928T203000
DTSTAMP:20260425T011155
CREATED:20200903T013254Z
LAST-MODIFIED:20200903T013415Z
UID:10700-1601317800-1601325000@tokachi-obihiro.doyu.jp
SUMMARY:第６回十勝農商工連携部会幹事会
DESCRIPTION:日時：９月２８日(月)　１８：３０～２０：３０ \n会場：同友会とかち支部会議室 (帯広市東２条南５丁目１)\nまたはＺＯＯＭでの参加（ＩＤ・パスワードは後日送付します） \n【議題】 \n１.各研究会活動について \n２.今後の活動について \n３.その他 \n※新型コロナウイルス感染症の感染拡大防止のため、マスク着用と手指消毒をお願いしております。\nまた、発熱（37.5℃以上）、咳の症状があるなど体調がすぐれない方は参加をお控え頂きますようお願い申し上げます。\nPDFはこちら \n第６回十勝農商工連携部会幹事会
URL:https://tokachi-obihiro.doyu.jp/event/event10700/
LOCATION:北海道帯広市東2条南5丁目1-1\, Japan
CATEGORIES:行事予定告知
ATTACH;FMTTYPE=image/jpeg:https://tokachi-obihiro.doyu.jp/wp/wp-content/uploads/2017/12/thum_logo1.jpg
END:VEVENT
END:VCALENDAR