BEGIN:VCALENDAR
VERSION:2.0
PRODID:-//北海道中小企業家同友会とかち支部 - ECPv4.6.8//NONSGML v1.0//EN
CALSCALE:GREGORIAN
METHOD:PUBLISH
X-WR-CALNAME:北海道中小企業家同友会とかち支部
X-ORIGINAL-URL:https://tokachi-obihiro.doyu.jp
X-WR-CALDESC:Events for 北海道中小企業家同友会とかち支部
BEGIN:VEVENT
DTSTART;TZID=Asia/Tokyo:20200910T160000
DTEND;TZID=Asia/Tokyo:20200910T170000
DTSTAMP:20260424T222710
CREATED:20200828T030215Z
LAST-MODIFIED:20200828T030215Z
UID:10637-1599753600-1599757200@tokachi-obihiro.doyu.jp
SUMMARY:第2回スタートアップ委員会
DESCRIPTION:■日　時：9月10日（木）16：00～17：00\n■会　場：同友会事務所（帯広市東2条南5丁目1）\n■議　題：\n・第1回いろはの会　振り返り\n・第2回いろはの会　に向けて\n・その他 \n第2回スタートアップ委員会
URL:https://tokachi-obihiro.doyu.jp/event/event10637/
CATEGORIES:行事予定告知
ATTACH;FMTTYPE=image/jpeg:https://tokachi-obihiro.doyu.jp/wp/wp-content/uploads/2017/12/thum_logo1.jpg
END:VEVENT
END:VCALENDAR