BEGIN:VCALENDAR
VERSION:2.0
PRODID:-//北海道中小企業家同友会とかち支部 - ECPv4.6.8//NONSGML v1.0//EN
CALSCALE:GREGORIAN
METHOD:PUBLISH
X-WR-CALNAME:北海道中小企業家同友会とかち支部
X-ORIGINAL-URL:https://tokachi-obihiro.doyu.jp
X-WR-CALDESC:Events for 北海道中小企業家同友会とかち支部
BEGIN:VEVENT
DTSTART;TZID=Asia/Tokyo:20200929T190000
DTEND;TZID=Asia/Tokyo:20200929T210000
DTSTAMP:20260424T235355
CREATED:20200827T075700Z
LAST-MODIFIED:20200827T080333Z
UID:10622-1601406000-1601413200@tokachi-obihiro.doyu.jp
SUMMARY:とかち支部９月例会
DESCRIPTION:日　時：９月２９日(火) １９:００～２１:００ \n会　場：とかち館　または　Zoom参加 \n会　費：無料　※新型コロナウイルス感染症対策として、会場は定員30名（先着順）とさせて頂きます。 \nテーマ：経営者の悩みに徹底伴走！企業の「売り」を「チャンス」へ結びつける \n報告者：釧路市ビジネスサポートセンター k-Biz　センター長　澄川 誠治　氏 \n━━━━━━━━━━━━━★オンライン参加方法★━━━━━━━━━━━━━━━ \n今回はグループ討論の都合上、事前登録が無い場合、ご参加頂けませんのでご了承ください。 \nオンライン参加の皆様は参加申込と同時に必ず下記URLから【事前登録】をお願いします。 \nhttps://is.gd/ibd4sb \n①WEB会議システム「Zoom」で行います。アカウントがなくても参加可能です。 \n②事前登録が済み次第、ご登録のアドレスへURLとパスワードが送られます。 \n③今回はZoom上でグループ討論があります。 \n・カメラとマイク機能が必要です。 \n・環境が整わない方は会場参加へのお申込みをお願いします。 \n・複数人でご参加の場合、1人1台機材のご用意をお願いします。 \nPDFはこちら \n  \nとかち支部９月例会
URL:https://tokachi-obihiro.doyu.jp/event/event10622/
LOCATION:西7条南6丁目2番地\, 帯広市\, 北海道\, 080-0017\, Japan
CATEGORIES:行事予定告知
ATTACH;FMTTYPE=image/jpeg:https://tokachi-obihiro.doyu.jp/wp/wp-content/uploads/2017/12/thum_logo1.jpg
END:VEVENT
END:VCALENDAR