BEGIN:VCALENDAR
VERSION:2.0
PRODID:-//北海道中小企業家同友会とかち支部 - ECPv4.6.8//NONSGML v1.0//EN
CALSCALE:GREGORIAN
METHOD:PUBLISH
X-WR-CALNAME:北海道中小企業家同友会とかち支部
X-ORIGINAL-URL:https://tokachi-obihiro.doyu.jp
X-WR-CALDESC:Events for 北海道中小企業家同友会とかち支部
BEGIN:VEVENT
DTSTART;TZID=Asia/Tokyo:20201006T190000
DTEND;TZID=Asia/Tokyo:20201006T210000
DTSTAMP:20260425T034035
CREATED:20200825T065453Z
LAST-MODIFIED:20200825T065453Z
UID:10608-1602010800-1602018000@tokachi-obihiro.doyu.jp
SUMMARY:2019経営指針研究会ミニ報告会
DESCRIPTION:日　時：10/6（火）19：00～21：00　※懇親会は行いません \n会　場：とかちプラザ視聴覚室（帯広市西4条南13丁目1）　※定員30名 \n対　象：19・20年度生、委員、サポーター、発表者の招待したい方 \n  \n2019経営指針研究会ミニ報告会
URL:https://tokachi-obihiro.doyu.jp/event/event10608/
LOCATION:帯広市西4条南13丁目1\, 帯広市\, 北海道\, Japan
CATEGORIES:行事予定告知
ATTACH;FMTTYPE=image/jpeg:https://tokachi-obihiro.doyu.jp/wp/wp-content/uploads/2017/12/thum_logo1.jpg
END:VEVENT
END:VCALENDAR