BEGIN:VCALENDAR
VERSION:2.0
PRODID:-//北海道中小企業家同友会とかち支部 - ECPv4.6.8//NONSGML v1.0//EN
CALSCALE:GREGORIAN
METHOD:PUBLISH
X-WR-CALNAME:北海道中小企業家同友会とかち支部
X-ORIGINAL-URL:https://tokachi-obihiro.doyu.jp
X-WR-CALDESC:Events for 北海道中小企業家同友会とかち支部
BEGIN:VEVENT
DTSTART;TZID=Asia/Tokyo:20200902T200000
DTEND;TZID=Asia/Tokyo:20200902T220000
DTSTAMP:20260425T011202
CREATED:20200821T070032Z
LAST-MODIFIED:20200821T070032Z
UID:10574-1599076800-1599084000@tokachi-obihiro.doyu.jp
SUMMARY:本別地区会９月例会
DESCRIPTION:■日　時：９月２日（水）　２０：００～２２：００\n■会　場：本別中央公民館（本別町北1丁目4番地27　電話：0156-22-5111）\n■テーマ：私の同友会活動、３人の委員長のささやき\n■パネリスト：(株)共同電設　代表取締役　原田健太　氏(経営指針委員長)\n弁護士法人岩田法律事務所　社員弁護士　岩田圭只　氏(経営労務委員長)\n(株)ミドリ機材　代表取締役　小野寺慎吾　氏(学び合い推進委員長)\n■コーディネーター：(株)ネオプロセス　代表取締役　松田英明　氏(地区会担当副支部長)\n■会　費；無料（お食事のご用意はありません。） \nPDFはこちら \n本別地区会９月例会
URL:https://tokachi-obihiro.doyu.jp/event/event10574/
LOCATION:本別町北1丁目4番地27\, 中川郡\, 北海道\, Japan
CATEGORIES:行事予定告知
ATTACH;FMTTYPE=image/jpeg:https://tokachi-obihiro.doyu.jp/wp/wp-content/uploads/2017/12/thum_logo1.jpg
END:VEVENT
END:VCALENDAR