BEGIN:VCALENDAR
VERSION:2.0
PRODID:-//北海道中小企業家同友会とかち支部 - ECPv4.6.8//NONSGML v1.0//EN
CALSCALE:GREGORIAN
METHOD:PUBLISH
X-WR-CALNAME:北海道中小企業家同友会とかち支部
X-ORIGINAL-URL:https://tokachi-obihiro.doyu.jp
X-WR-CALDESC:Events for 北海道中小企業家同友会とかち支部
BEGIN:VEVENT
DTSTART;TZID=Asia/Tokyo:20200817T120000
DTEND;TZID=Asia/Tokyo:20200817T140000
DTSTAMP:20260425T034010
CREATED:20200728T072809Z
LAST-MODIFIED:20200728T072809Z
UID:10396-1597665600-1597672800@tokachi-obihiro.doyu.jp
SUMMARY:環境部会第５回世話人会
DESCRIPTION:日　時：８月１７日（月） １２：００～１４：００ \n会　場：ナチュラル・ココ　ラフティ （帯広市西１０条南１丁目１０－３、電話；0155-38-3833） \n会　費：1\,100円（食事代として） \n＊領収証はお店からの発行となります（食事代として） \nPDFはこちら \n環境部会第５回世話人会
URL:https://tokachi-obihiro.doyu.jp/event/event10396/
LOCATION:帯広市西10条南1丁目10-3\, 北海道\, Japan
CATEGORIES:行事予定告知
ATTACH;FMTTYPE=image/jpeg:https://tokachi-obihiro.doyu.jp/wp/wp-content/uploads/2017/12/thum_logo1.jpg
END:VEVENT
END:VCALENDAR