BEGIN:VCALENDAR
VERSION:2.0
PRODID:-//北海道中小企業家同友会とかち支部 - ECPv4.6.8//NONSGML v1.0//EN
CALSCALE:GREGORIAN
METHOD:PUBLISH
X-WR-CALNAME:北海道中小企業家同友会とかち支部
X-ORIGINAL-URL:https://tokachi-obihiro.doyu.jp
X-WR-CALDESC:Events for 北海道中小企業家同友会とかち支部
BEGIN:VEVENT
DTSTART;TZID=Asia/Tokyo:20200821T190000
DTEND;TZID=Asia/Tokyo:20200821T220000
DTSTAMP:20260425T023143
CREATED:20200728T010548Z
LAST-MODIFIED:20200728T010548Z
UID:10353-1598036400-1598047200@tokachi-obihiro.doyu.jp
SUMMARY:経営指針研究会Aグループ第6講
DESCRIPTION:日　時：8月21日（金）19：00～22：00\n会　場：千葉建設（帯広市西24条北2丁目5番78）\n課　題：10年ビジョン検討シート\n発　表：全員 \n経営指針研究会Aグループ第6講
URL:https://tokachi-obihiro.doyu.jp/event/event10353/
LOCATION:帯広市西24条北2丁目5番78\, 北海道\, Japan
CATEGORIES:行事予定告知
ATTACH;FMTTYPE=image/jpeg:https://tokachi-obihiro.doyu.jp/wp/wp-content/uploads/2017/12/thum_logo1.jpg
END:VEVENT
END:VCALENDAR