BEGIN:VCALENDAR
VERSION:2.0
PRODID:-//北海道中小企業家同友会とかち支部 - ECPv4.6.8//NONSGML v1.0//EN
CALSCALE:GREGORIAN
METHOD:PUBLISH
X-WR-CALNAME:北海道中小企業家同友会とかち支部
X-ORIGINAL-URL:https://tokachi-obihiro.doyu.jp
X-WR-CALDESC:Events for 北海道中小企業家同友会とかち支部
BEGIN:VEVENT
DTSTART;TZID=Asia/Tokyo:20200820T190000
DTEND;TZID=Asia/Tokyo:20200820T210000
DTSTAMP:20260425T034112
CREATED:20200728T005841Z
LAST-MODIFIED:20200728T005841Z
UID:10349-1597950000-1597957200@tokachi-obihiro.doyu.jp
SUMMARY:【ZOOM併用】あすなる会人事労務グループ8月例会
DESCRIPTION:日　時：8月20日（木）19：00～21：00 \n発信会場：同友会事務所（帯広市東2条南5丁目1） \nテーマ：就業規則」について \n講　師：古田社労士行政書士事務所　所長　古田　裕　氏 \n※Zoom参加者は各自　騒音のない通信可能な場所を確保の上、各自の端末からご参加ください。\n※ミーティングID・パスワードは開催が近づいたらメールします。\n※準備の都合上、8月7日(金)までに出欠回答をお願いします。 \n【ZOOM併用】あすなる会人事労務グループ8月例会
URL:https://tokachi-obihiro.doyu.jp/event/event10349/
CATEGORIES:行事予定告知
ATTACH;FMTTYPE=image/jpeg:https://tokachi-obihiro.doyu.jp/wp/wp-content/uploads/2017/12/thum_logo1.jpg
END:VEVENT
END:VCALENDAR