BEGIN:VCALENDAR
VERSION:2.0
PRODID:-//北海道中小企業家同友会とかち支部 - ECPv4.6.8//NONSGML v1.0//EN
CALSCALE:GREGORIAN
METHOD:PUBLISH
X-WR-CALNAME:北海道中小企業家同友会とかち支部
X-ORIGINAL-URL:https://tokachi-obihiro.doyu.jp
X-WR-CALDESC:Events for 北海道中小企業家同友会とかち支部
BEGIN:VEVENT
DTSTART;TZID=Asia/Tokyo:20180210T190000
DTEND;TZID=Asia/Tokyo:20180210T210000
DTSTAMP:20260424T224703
CREATED:20180131T065515Z
LAST-MODIFIED:20180131T065743Z
UID:1628-1518289200-1518296400@tokachi-obihiro.doyu.jp
SUMMARY:足寄地区会２月例会
DESCRIPTION:■日　時；２月１０日（土）　１９：００～２１：００ \n■会　場；割烹　熊の子（足寄町南1条2丁目16　℡: 0156-25-2625） \n■会　費；４５００円（お食事代として）※領収書は同友会で発行 \n【テーマ】新年度の地区会活動計画と役員体制について \n2018年度の活動等を打ち合わせる大事な例会です。ぜひご予定下さい \nPDFはこちら \n足寄地区会２月例会
URL:https://tokachi-obihiro.doyu.jp/event/%e8%b6%b3%e5%af%84%e5%9c%b0%e5%8c%ba%e4%bc%9a%ef%bc%92%e6%9c%88%e4%be%8b%e4%bc%9a/
LOCATION:足寄町南１条２丁目１６\, 足寄町\, 北海道\, Japan
CATEGORIES:行事予定告知
ATTACH;FMTTYPE=image/jpeg:https://tokachi-obihiro.doyu.jp/wp/wp-content/uploads/2017/12/thum_logo1.jpg
END:VEVENT
END:VCALENDAR