BEGIN:VCALENDAR
VERSION:2.0
PRODID:-//北海道中小企業家同友会とかち支部 - ECPv4.6.8//NONSGML v1.0//EN
CALSCALE:GREGORIAN
METHOD:PUBLISH
X-WR-CALNAME:北海道中小企業家同友会とかち支部
X-ORIGINAL-URL:https://tokachi-obihiro.doyu.jp
X-WR-CALDESC:Events for 北海道中小企業家同友会とかち支部
BEGIN:VEVENT
DTSTART;TZID=Asia/Tokyo:20180215T190000
DTEND;TZID=Asia/Tokyo:20180215T220000
DTSTAMP:20260425T023256
CREATED:20180131T044817Z
LAST-MODIFIED:20180131T044817Z
UID:1601-1518721200-1518732000@tokachi-obihiro.doyu.jp
SUMMARY:経営指針「Cグループ」第12講
DESCRIPTION:と　き／2月15日（木）19：00～22：00 \nところ／同友会事務所(帯広市東2条南5丁目1） \nテーマ／経営指針の実践に向けて \n課　題／高岡さん：クロスＳＷＯＴ～単年度経営計画 \n藤田さん：中期経営計画、単年度経営計画 \n経営指針「Cグループ」第12講
URL:https://tokachi-obihiro.doyu.jp/event/%e7%b5%8c%e5%96%b6%e6%8c%87%e9%87%9d%e3%80%8cc%e3%82%b0%e3%83%ab%e3%83%bc%e3%83%97%e3%80%8d%e7%ac%ac12%e8%ac%9b/
LOCATION:北海道帯広市東2条南5丁目1-1\, Japan
CATEGORIES:行事予定告知
ATTACH;FMTTYPE=image/jpeg:https://tokachi-obihiro.doyu.jp/wp/wp-content/uploads/2017/12/thum_logo1.jpg
END:VEVENT
END:VCALENDAR