BEGIN:VCALENDAR
VERSION:2.0
PRODID:-//北海道中小企業家同友会とかち支部 - ECPv4.6.8//NONSGML v1.0//EN
CALSCALE:GREGORIAN
METHOD:PUBLISH
X-WR-CALNAME:北海道中小企業家同友会とかち支部
X-ORIGINAL-URL:https://tokachi-obihiro.doyu.jp
X-WR-CALDESC:Events for 北海道中小企業家同友会とかち支部
BEGIN:VEVENT
DTSTART;TZID=Asia/Tokyo:20180130T120000
DTEND;TZID=Asia/Tokyo:20180130T140000
DTSTAMP:20260422T202048
CREATED:20180129T031059Z
LAST-MODIFIED:20180129T031059Z
UID:1517-1517313600-1517320800@tokachi-obihiro.doyu.jp
SUMMARY:第３回経営・労務委員会
DESCRIPTION:日時：１月３０日（金） １２：００～１４：００\n会場：同友会とかち事務所 (帯広市東２条南５丁目１ TEL 22-3611)\n　　　　　　　※必要な方にはお食事を準備します。 \n議題：\n　　１）今後のセミナー企画の具体化\n　　２）金融懇談会を振り返って\n　　３）２０１８年度に向けて\n　　４）その他 \n第３回経営・労務委員会
URL:https://tokachi-obihiro.doyu.jp/event/%e7%ac%ac%ef%bc%93%e5%9b%9e%e7%b5%8c%e5%96%b6%e3%83%bb%e5%8a%b4%e5%8b%99%e5%a7%94%e5%93%a1%e4%bc%9a/
LOCATION:北海道帯広市東2条南5丁目1-1\, Japan
CATEGORIES:行事予定告知
END:VEVENT
END:VCALENDAR