BEGIN:VCALENDAR
VERSION:2.0
PRODID:-//北海道中小企業家同友会とかち支部 - ECPv4.6.8//NONSGML v1.0//EN
CALSCALE:GREGORIAN
METHOD:PUBLISH
X-WR-CALNAME:北海道中小企業家同友会とかち支部
X-ORIGINAL-URL:https://tokachi-obihiro.doyu.jp
X-WR-CALDESC:Events for 北海道中小企業家同友会とかち支部
BEGIN:VEVENT
DTSTART;TZID=Asia/Tokyo:20180228T100000
DTEND;TZID=Asia/Tokyo:20180228T120000
DTSTAMP:20260424T171713
CREATED:20180207T024441Z
LAST-MODIFIED:20180207T024441Z
UID:1789-1519812000-1519819200@tokachi-obihiro.doyu.jp
SUMMARY:第２回人生大学運営委員会
DESCRIPTION:と  き／２月２８日（水）　１０：００～１２：００ \nところ／同友会とかち事務所 \n  \n＜議題＞ \n１．２０１８年度　運営委員会体制について \n２．２０１８年度　例会企画・運営について \n３．２０１８年度　登録会員募集について \n４．その他 \n第２回人生大学運営委員会
URL:https://tokachi-obihiro.doyu.jp/event/%e7%ac%ac%ef%bc%92%e5%9b%9e%e4%ba%ba%e7%94%9f%e5%a4%a7%e5%ad%a6%e9%81%8b%e5%96%b6%e5%a7%94%e5%93%a1%e4%bc%9a/
LOCATION:北海道帯広市東2条南5丁目1-1\, Japan
CATEGORIES:行事予定告知
ATTACH;FMTTYPE=image/jpeg:https://tokachi-obihiro.doyu.jp/wp/wp-content/uploads/2017/12/thum_logo1.jpg
END:VEVENT
END:VCALENDAR